BEGIN:VCALENDAR
VERSION:2.0
PRODID:-//sebbo.net//ical-generator//EN
BEGIN:VEVENT
UID:4b73900d-9ab1-41fb-9fa2-7362d1b1dd82
SEQUENCE:0
DTSTAMP:20260424T205251Z
DTSTART:20261103T180000Z
DTEND:20261103T210000Z
SUMMARY:Yosho - Künstler von Morgen Tour 2026 - Stuttgart - Schräglage
LOCATION:Schräglage\, Hirschstraße 14\, 70173 Stuttgart\, Deutschland
DESCRIPTION:Einlass: 19:00 Uhr\, Beginn: 20:00
END:VEVENT
END:VCALENDAR