BEGIN:VCALENDAR
VERSION:2.0
PRODID:-//sebbo.net//ical-generator//EN
BEGIN:VEVENT
UID:7f861764-c6ed-46f2-8ef1-a3b6db180f9d
SEQUENCE:0
DTSTAMP:20260424T205047Z
DTSTART:20261106T180000Z
DTEND:20261106T210000Z
SUMMARY:Yosho - Künstler von Morgen Tour 2026 - Wien - Flex Café
LOCATION:Flex Café\, Augartenbrücke 1\, 1010 Wien\, Österreich
DESCRIPTION:Einlass: 19:00 Uhr\, Beginn: 20:00
END:VEVENT
END:VCALENDAR