BEGIN:VCALENDAR
VERSION:2.0
PRODID:-//sebbo.net//ical-generator//EN
BEGIN:VEVENT
UID:9be040e8-857b-4642-96d9-6212e6a2d879
SEQUENCE:0
DTSTAMP:20260419T220357Z
DTSTART:20260425T160000Z
DTEND:20260425T190000Z
SUMMARY:The toten Crackhuren im Kofferraum - Forever Tour 2026 - Hamburg -
  Uebel & Gefährlich
LOCATION:Uebel & Gefährlich\, Feldstraße 66\, 20359 Hamburg\, Deutschlan
 d
DESCRIPTION:Einlass: 18:00 Uhr\, Beginn: 19:00
END:VEVENT
END:VCALENDAR