BEGIN:VCALENDAR
VERSION:2.0
PRODID:-//sebbo.net//ical-generator//EN
BEGIN:VEVENT
UID:cab34525-282d-44b9-86d3-d63445a37466
SEQUENCE:0
DTSTAMP:20260419T215826Z
DTSTART:20260821T153000Z
DTEND:20260821T191500Z
SUMMARY:SDP - Sommer Open Air - Rostock - IGA Park
LOCATION:IGA Park\, An der Hanse Messe\, 18106 Rostock\, Deutschland
DESCRIPTION:Einlass: 17:30 Uhr\, Beginn: 19:15
END:VEVENT
END:VCALENDAR