BEGIN:VCALENDAR
VERSION:2.0
PRODID:-//sebbo.net//ical-generator//EN
BEGIN:VEVENT
UID:b6da2e5c-d81a-485e-845e-c8c7ce36fd66
SEQUENCE:0
DTSTAMP:20260419T220159Z
DTSTART:20260427T170000Z
DTEND:20260427T200000Z
SUMMARY:Paula Carolina - ICH WAR HIER – TOUR 2026 - Heidelberg - halle02
LOCATION:halle02\, Zollhofgarten 2	\, 69115 Heidelberg\, Deutschland
DESCRIPTION:Einlass: 19:00 Uhr\, Beginn: 20:00
END:VEVENT
END:VCALENDAR