BEGIN:VCALENDAR
VERSION:2.0
PRODID:-//sebbo.net//ical-generator//EN
BEGIN:VEVENT
UID:2deeb817-1112-48e2-9505-bff758799da4
SEQUENCE:0
DTSTAMP:20260419T215956Z
DTSTART:20260627T150000Z
DTEND:20260627T184500Z
SUMMARY:KRAFTKLUB - „Sterben in Karl-Marx-Stadt“ Open Airs 2026 - Dres
 den - Rudolf-Harbig-Stadion
LOCATION:Rudolf-Harbig-Stadion\, Lennéstraße 12\, 01069 Dresden\, Deutsc
 hland
DESCRIPTION:Einlass: 17:00 Uhr\, Beginn: 18:45
END:VEVENT
END:VCALENDAR