BEGIN:VCALENDAR
VERSION:2.0
PRODID:-//sebbo.net//ical-generator//EN
BEGIN:VEVENT
UID:50eccd0b-45a4-46f1-80f7-8a834f2b8182
SEQUENCE:0
DTSTAMP:20260421T100840Z
DTSTART:20261009T163000Z
DTEND:20261009T200000Z
SUMMARY:Jassin - Die Größere Arsenalplatz Tour - Hamburg - Georg Elser H
 alle
LOCATION:Georg Elser Halle\, Feldstraße 66\, 20357 Hamburg\, Deutschland
DESCRIPTION:Einlass: 18:30 Uhr\, Beginn: 20:00
END:VEVENT
END:VCALENDAR