BEGIN:VCALENDAR
VERSION:2.0
PRODID:-//sebbo.net//ical-generator//EN
BEGIN:VEVENT
UID:41dba99d-7e52-4c84-88cf-922beb42e852
SEQUENCE:0
DTSTAMP:20260420T182227Z
DTSTART:20260924T173000Z
DTEND:20260924T200000Z
SUMMARY:Gwen Dolyn - "X-Rated-Feelings-Tour“ - Münster - Gleis 22
LOCATION:Gleis 22\, Hafenstraße 34\, 48153 Münster\, Deutschland
DESCRIPTION:Einlass: 19:30 Uhr\, Beginn: 20:00
END:VEVENT
END:VCALENDAR