BEGIN:VCALENDAR
VERSION:2.0
PRODID:-//sebbo.net//ical-generator//EN
BEGIN:VEVENT
UID:f10afdaf-59ac-464e-a683-ad8423222378
SEQUENCE:0
DTSTAMP:20260420T182227Z
DTSTART:20260925T170000Z
DTEND:20260925T200000Z
SUMMARY:Gwen Dolyn - "X-Rated-Feelings-Tour“ - Erfurt - Engelsburg
LOCATION:Engelsburg\, Allerheiligenstraße 20\, 99084 Erfurt\, Deutschland
DESCRIPTION:Einlass: 19:00 Uhr\, Beginn: 20:00
END:VEVENT
END:VCALENDAR