BEGIN:VCALENDAR
VERSION:2.0
PRODID:-//sebbo.net//ical-generator//EN
BEGIN:VEVENT
UID:8a3c1ca0-ff0a-49ab-a809-74e89616e8bc
SEQUENCE:0
DTSTAMP:20260419T220110Z
DTSTART:20260916T170000Z
DTEND:20260916T200000Z
SUMMARY:futurebae - "The Hot Ex-Effekt" Tour 2026 - Wien - Das Werk
LOCATION:Das Werk\, Spittelauer Lände 12\, 1090 Wien\, Österreich
DESCRIPTION:Einlass: 19:00 Uhr\, Beginn: 20:00
END:VEVENT
END:VCALENDAR