BEGIN:VCALENDAR
VERSION:2.0
PRODID:-//sebbo.net//ical-generator//EN
BEGIN:VEVENT
UID:f08b49de-310c-43c1-91d9-413a908c3df5
SEQUENCE:0
DTSTAMP:20260421T091100Z
DTSTART:20260915T170000Z
DTEND:20260915T200000Z
SUMMARY:futurebae - "The Hot Ex-Effekt" Tour 2026 - München - Rote Sonne
LOCATION:Rote Sonne\, Maximiliansplatz 5\, 80333 München\, Deutschland
DESCRIPTION:Einlass: 19:00 Uhr\, Beginn: 20:00
END:VEVENT
END:VCALENDAR