BEGIN:VCALENDAR
VERSION:2.0
PRODID:-//sebbo.net//ical-generator//EN
BEGIN:VEVENT
UID:47a59c0b-3e87-4439-904a-45a3b6c8ca12
SEQUENCE:0
DTSTAMP:20260419T220124Z
DTSTART:20260924T170000Z
DTEND:20260924T200000Z
SUMMARY:futurebae - "The Hot Ex-Effekt" Tour 2026 - Erfurt - Kalif Storch
LOCATION:Kalif Storch\, Zum Güterbahnhof 20\, 99085 Erfurt\, Deutschland
DESCRIPTION:Einlass: 19:00 Uhr\, Beginn: 20:00
END:VEVENT
END:VCALENDAR