BEGIN:VCALENDAR
VERSION:2.0
PRODID:-//sebbo.net//ical-generator//EN
BEGIN:VEVENT
UID:f2ca06b3-f179-49ca-b303-2ec1d9e345ec
SEQUENCE:0
DTSTAMP:20260419T220124Z
DTSTART:20260920T170000Z
DTEND:20260920T200000Z
SUMMARY:futurebae - "The Hot Ex-Effekt" Tour 2026 - Köln - Veedel Club
LOCATION:Veedel Club\, Luxemburger Str. 37\, 50674 Köln\, Deutschland
DESCRIPTION:Einlass: 19:00 Uhr\, Beginn: 20:00
END:VEVENT
END:VCALENDAR