BEGIN:VCALENDAR
VERSION:2.0
PRODID:-//sebbo.net//ical-generator//EN
BEGIN:VEVENT
UID:312034fe-3b79-4da5-aaac-96f48d3a4856
SEQUENCE:0
DTSTAMP:20260419T220125Z
DTSTART:20260425T163000Z
DTEND:20260425T200000Z
SUMMARY:ENNIO - "HAIFISCHBECKEN" TOUR 2026 - Frankfurt am Main - Zoom
LOCATION:Zoom\, Carl-Benz-Straße 21\, 60386 Frankfurt am Main\, Deutschla
 nd
DESCRIPTION:Einlass: 18:30 Uhr\, Beginn: 20:00
END:VEVENT
END:VCALENDAR