BEGIN:VCALENDAR
VERSION:2.0
PRODID:-//sebbo.net//ical-generator//EN
BEGIN:VEVENT
UID:c8bfe1a1-510e-43e2-9a18-376c5067ca43
SEQUENCE:0
DTSTAMP:20260419T220126Z
DTSTART:20260506T220000Z
DTEND:20260507T200000Z
SUMMARY:ENNIO - "HAIFISCHBECKEN" TOUR 2026 - Dresden - STROMWERK
LOCATION:STROMWERK\, Kraftwerk Mitte 28\, 01067 Dresden\, Deutschland
DESCRIPTION:Beginn: 20:00
END:VEVENT
END:VCALENDAR