BEGIN:VCALENDAR
VERSION:2.0
PRODID:-//sebbo.net//ical-generator//EN
BEGIN:VEVENT
UID:574fbed7-178f-439d-bd6c-c650dd7341ad
SEQUENCE:0
DTSTAMP:20260419T215957Z
DTSTART:20260428T170000Z
DTEND:20260428T200000Z
SUMMARY:ENNIO - "HAIFISCHBECKEN" TOUR 2026 - Ulm - ROXY
LOCATION:ROXY\, Schillerstraße 1/12\, 89077 Ulm\, Deutschland
DESCRIPTION:Einlass: 19:00 Uhr\, Beginn: 20:00
END:VEVENT
END:VCALENDAR