BEGIN:VCALENDAR
VERSION:2.0
PRODID:-//sebbo.net//ical-generator//EN
BEGIN:VEVENT
UID:b220c89f-ef7b-4a2e-b2ff-1065d09c0fb3
SEQUENCE:0
DTSTAMP:20260419T220108Z
DTSTART:20260419T170000Z
DTEND:20260419T200000Z
SUMMARY:ENNIO - "HAIFISCHBECKEN" TOUR 2026 - Bremen - Modernes
LOCATION:Modernes\, Neustadtswall 28\, 28199 Bremen\, Deutschland
DESCRIPTION:Einlass: 19:00 Uhr\, Beginn: 20:00
END:VEVENT
END:VCALENDAR