BEGIN:VCALENDAR
VERSION:2.0
PRODID:-//sebbo.net//ical-generator//EN
BEGIN:VEVENT
UID:39fba445-28fa-4c22-9585-ece6abdf869b
SEQUENCE:0
DTSTAMP:20260419T220132Z
DTSTART:20260505T170000Z
DTEND:20260505T200000Z
SUMMARY:ENNIO - "HAIFISCHBECKEN" TOUR 2026 - Nürnberg - Löwensaal
LOCATION:Löwensaal\, Schmausenbuckstraße 166\, 90480 Nürnberg\, Deutsch
 land
DESCRIPTION:Einlass: 19:00 Uhr\, Beginn: 20:00
END:VEVENT
END:VCALENDAR