BEGIN:VCALENDAR
VERSION:2.0
PRODID:-//sebbo.net//ical-generator//EN
BEGIN:VEVENT
UID:38a2f732-daf2-47c4-82dd-18955981a5f9
SEQUENCE:0
DTSTAMP:20260421T083605Z
DTSTART:20260502T170000Z
DTEND:20260502T200000Z
SUMMARY:ENNIO - "HAIFISCHBECKEN" TOUR 2026 - Stuttgart - Im Wizemann (Hall
 e)
LOCATION:Im Wizemann (Halle)\, Quellenstraße 7\, 70376 Stuttgart\, Deutsc
 hland
DESCRIPTION:Einlass: 19:00 Uhr\, Beginn: 20:00
END:VEVENT
END:VCALENDAR