BEGIN:VCALENDAR
VERSION:2.0
PRODID:-//sebbo.net//ical-generator//EN
BEGIN:VEVENT
UID:dcb2b53e-f814-41b7-bde2-2cb8f969f9b2
SEQUENCE:0
DTSTAMP:20260419T220129Z
DTSTART:20260426T170000Z
DTEND:20260426T200000Z
SUMMARY:ENNIO - "HAIFISCHBECKEN" TOUR 2026 - Heidelberg - halle02
LOCATION:halle02\, Zollhofgarten 2	\, 69115 Heidelberg\, Deutschland
DESCRIPTION:Einlass: 19:00 Uhr\, Beginn: 20:00
END:VEVENT
END:VCALENDAR