BEGIN:VCALENDAR
VERSION:2.0
PRODID:-//sebbo.net//ical-generator//EN
BEGIN:VEVENT
UID:56500c60-702a-45f1-b234-7d58e011cba3
SEQUENCE:0
DTSTAMP:20260419T220158Z
DTSTART:20260508T170000Z
DTEND:20260508T200000Z
SUMMARY:ENNIO - "HAIFISCHBECKEN" TOUR 2026 - Leipzig - Felsenkeller
LOCATION:Felsenkeller\, Karl-Heine-Straße 32\, 04229 Leipzig\, Deutschlan
 d
DESCRIPTION:Einlass: 19:00 Uhr\, Beginn: 20:00
END:VEVENT
END:VCALENDAR