BEGIN:VCALENDAR
VERSION:2.0
PRODID:-//sebbo.net//ical-generator//EN
BEGIN:VEVENT
UID:5b60c7bf-623e-4076-8ea1-10f83b03acc3
SEQUENCE:0
DTSTAMP:20260419T220307Z
DTSTART:20260424T170000Z
DTEND:20260424T200000Z
SUMMARY:ENNIO - "HAIFISCHBECKEN" TOUR 2026 - Trier - Europahalle
LOCATION:Europahalle\, Viehmarktplatz 15\, 54290 Trier\, Deutschland
DESCRIPTION:Einlass: 19:00 Uhr\, Beginn: 20:00
END:VEVENT
END:VCALENDAR