BEGIN:VCALENDAR
VERSION:2.0
PRODID:-//sebbo.net//ical-generator//EN
BEGIN:VEVENT
UID:22a3b4e7-f388-4d14-be32-360e84b087d7
SEQUENCE:0
DTSTAMP:20260419T220349Z
DTSTART:20260421T170000Z
DTEND:20260421T200000Z
SUMMARY:ENNIO - "HAIFISCHBECKEN" TOUR 2026 - Köln - Carlswerk Victoria
LOCATION:Carlswerk Victoria\, Schanzenstraße 6-20 Gebäude 3.12\, 51063 K
 öln\, Deutschland
DESCRIPTION:Einlass: 19:00 Uhr\, Beginn: 20:00
END:VEVENT
END:VCALENDAR