BEGIN:VCALENDAR
VERSION:2.0
PRODID:-//sebbo.net//ical-generator//EN
BEGIN:VEVENT
UID:53c2cb1a-ae00-4bce-8085-2ef24f1c8c94
SEQUENCE:0
DTSTAMP:20260419T220004Z
DTSTART:20260420T163000Z
DTEND:20260420T200000Z
SUMMARY:ENNIO - "HAIFISCHBECKEN" TOUR 2026 - Osnabrück - BOTSCHAFT
LOCATION:BOTSCHAFT\, Frankenstraße 21\, 49082 Osnabrück\, Deutschland
DESCRIPTION:Einlass: 18:30 Uhr\, Beginn: 20:00
END:VEVENT
END:VCALENDAR