BEGIN:VCALENDAR
VERSION:2.0
PRODID:-//sebbo.net//ical-generator//EN
BEGIN:VEVENT
UID:54c53ce7-ce0c-4ce4-a2c2-6d93b701bad2
SEQUENCE:0
DTSTAMP:20260425T143730Z
DTSTART:20261103T180000Z
DTEND:20261103T210000Z
SUMMARY:Eli Preiss - (Selbst)bewusst Tour 2026 - Leipzig - Werk2
LOCATION:Werk2\, Kochstraße 132\, 04277 Leipzig\, Deutschland
DESCRIPTION:Einlass: 19:00 Uhr\, Beginn: 20:00
END:VEVENT
END:VCALENDAR