BEGIN:VCALENDAR
VERSION:2.0
PRODID:-//sebbo.net//ical-generator//EN
BEGIN:VEVENT
UID:91e74fd8-59c8-4d55-b858-9cfbb6edf0ad
SEQUENCE:0
DTSTAMP:20260425T143018Z
DTSTART:20261031T180000Z
DTEND:20261031T210000Z
SUMMARY:Eli Preiss - (Selbst)bewusst Tour 2026 - Hamburg - Uebel & Gefähr
 lich
LOCATION:Uebel & Gefährlich\, Feldstraße 66\, 20359 Hamburg\, Deutschlan
 d
DESCRIPTION:Einlass: 19:00 Uhr\, Beginn: 20:00
END:VEVENT
END:VCALENDAR