BEGIN:VCALENDAR
VERSION:2.0
PRODID:-//sebbo.net//ical-generator//EN
BEGIN:VEVENT
UID:0f43fbd4-51f2-448e-a623-fef8d500e56d
SEQUENCE:0
DTSTAMP:20260425T144638Z
DTSTART:20261102T180000Z
DTEND:20261102T210000Z
SUMMARY:Eli Preiss - (Selbst)bewusst Tour 2026 - Berlin - Festsaal Kreuzbe
 rg
LOCATION:Festsaal Kreuzberg\, Am Flutgraben 2\, 12435 Berlin\, Deutschland
DESCRIPTION:Einlass: 19:00 Uhr\, Beginn: 20:00
END:VEVENT
END:VCALENDAR