BEGIN:VCALENDAR
VERSION:2.0
PRODID:-//sebbo.net//ical-generator//EN
BEGIN:VEVENT
UID:cd3d08df-25c6-4e10-829d-5f080c0d8113
SEQUENCE:0
DTSTAMP:20260425T145159Z
DTSTART:20261029T180000Z
DTEND:20261029T210000Z
SUMMARY:Eli Preiss - (Selbst)bewusst Tour 2026 - Köln - Club Bahnhof Ehre
 nfeld
LOCATION:Club Bahnhof Ehrenfeld\, Bartholomäus-Schink-Straße 65-67\, 508
 25 Köln\, Deutschland
DESCRIPTION:Einlass: 19:00 Uhr\, Beginn: 20:00
END:VEVENT
END:VCALENDAR