BEGIN:VCALENDAR
VERSION:2.0
PRODID:-//sebbo.net//ical-generator//EN
BEGIN:VEVENT
UID:5c8a2734-a3b8-4e2a-8e75-0c2ebd230363
SEQUENCE:0
DTSTAMP:20260419T215956Z
DTSTART:20260516T170000Z
DTEND:20260516T180000Z
SUMMARY:DRUNKEN MASTERS - DIE DEMONTAGE GEHT WEITER - München - Backstage
  Werk	
LOCATION:Backstage Werk	\, Reitknechtstr. 6	\, 80639 München\, Deutschlan
 d
DESCRIPTION:Einlass: 19:00 Uhr
END:VEVENT
END:VCALENDAR