BEGIN:VCALENDAR
VERSION:2.0
PRODID:-//sebbo.net//ical-generator//EN
BEGIN:VEVENT
UID:3059f6a5-f5eb-4659-b0ea-0240d5e893ad
SEQUENCE:0
DTSTAMP:20260423T162704Z
DTSTART:20260815T170000Z
DTEND:20260815T200000Z
SUMMARY:DILLA x Fenster zum Hof-Open Air 2026 - Mainz - Landesmuseum Mainz
LOCATION:Landesmuseum Mainz\, Große Bleiche 49-51\, 55116 Mainz\, Deutsch
 land
DESCRIPTION:Einlass: 19:00 Uhr\, Beginn: 19:30
END:VEVENT
END:VCALENDAR