BEGIN:VCALENDAR
VERSION:2.0
PRODID:-//sebbo.net//ical-generator//EN
BEGIN:VEVENT
UID:0a314059-f01f-47ee-a29a-9b739eff99bc
SEQUENCE:0
DTSTAMP:20260421T185121Z
DTSTART:20261121T180000Z
DTEND:20261121T210000Z
SUMMARY:CONNY & Liser - Ælpha Male Club Tour 2026 - Kassel - Kulturzentru
 m FÄRBEREI
LOCATION:Kulturzentrum FÄRBEREI\, Universitätspl. 10\, 34127 Kassel\, De
 utschland
DESCRIPTION:Einlass: 19:00 Uhr\, Beginn: 20:00
END:VEVENT
END:VCALENDAR