BEGIN:VCALENDAR
VERSION:2.0
PRODID:-//sebbo.net//ical-generator//EN
BEGIN:VEVENT
UID:8506f670-eaa8-4076-b776-6676d391d215
SEQUENCE:0
DTSTAMP:20260421T184815Z
DTSTART:20261113T180000Z
DTEND:20261113T210000Z
SUMMARY:CONNY & Liser - Ælpha Male Club Tour 2026 - Braunschweig - KufA H
 aus
LOCATION:KufA Haus\, Westbahnhof 13\, 38118 Braunschweig\, Deutschland
DESCRIPTION:Einlass: 19:00 Uhr\, Beginn: 20:00
END:VEVENT
END:VCALENDAR