BEGIN:VCALENDAR
VERSION:2.0
PRODID:-//sebbo.net//ical-generator//EN
BEGIN:VEVENT
UID:9383eb62-1bf0-4816-acfe-860874e4e74c
SEQUENCE:0
DTSTAMP:20260421T184815Z
DTSTART:20261112T180000Z
DTEND:20261112T210000Z
SUMMARY:CONNY & Liser - Ælpha Male Club Tour 2026 - Osnabrück - Haus der
  Jugend
LOCATION:Haus der Jugend\, Große Gildewart 6-9\, 49074 Osnabrück\, Deuts
 chland
DESCRIPTION:Einlass: 19:00 Uhr\, Beginn: 20:00
END:VEVENT
END:VCALENDAR