BEGIN:VCALENDAR
VERSION:2.0
PRODID:-//sebbo.net//ical-generator//EN
BEGIN:VEVENT
UID:1cad49fb-24f3-45b1-93e9-1b7d247d0dd4
SEQUENCE:0
DTSTAMP:20260421T184619Z
DTSTART:20261114T180000Z
DTEND:20261114T210000Z
SUMMARY:CONNY & Liser - Ælpha Male Club Tour 2026 - Hamburg - FABRIK
LOCATION:FABRIK\, Barnerstr. 36\, 22765 Hamburg\, Deutschland
DESCRIPTION:Einlass: 19:00 Uhr\, Beginn: 20:00
END:VEVENT
END:VCALENDAR