BEGIN:VCALENDAR
VERSION:2.0
PRODID:-//sebbo.net//ical-generator//EN
BEGIN:VEVENT
UID:1f3943b4-7575-4f1a-95aa-44169126e9fc
SEQUENCE:0
DTSTAMP:20260421T184642Z
DTSTART:20261212T180000Z
DTEND:20261212T210000Z
SUMMARY:CONNY & Liser - Ælpha Male Club Tour 2026 - Köln - Essigfabrik
LOCATION:Essigfabrik\, Siegburger Str. 110\, 50679 Köln\, Deutschland
DESCRIPTION:Einlass: 19:00 Uhr\, Beginn: 20:00
END:VEVENT
END:VCALENDAR