BEGIN:VCALENDAR
VERSION:2.0
PRODID:-//sebbo.net//ical-generator//EN
BEGIN:VEVENT
UID:9f7552ac-4940-4cfe-8ad2-7a536ffe1d61
SEQUENCE:0
DTSTAMP:20260421T184802Z
DTSTART:20261031T180000Z
DTEND:20261031T210000Z
SUMMARY:CONNY & Liser - Ælpha Male Club Tour 2026 - Kiel - Die Pumpe
LOCATION:Die Pumpe\, Haßstraße 22\, 24103 Kiel\, Deutschland
DESCRIPTION:Einlass: 19:00 Uhr\, Beginn: 20:00
END:VEVENT
END:VCALENDAR