BEGIN:VCALENDAR
VERSION:2.0
PRODID:-//sebbo.net//ical-generator//EN
BEGIN:VEVENT
UID:5f41fbea-04d9-475c-9d9e-8577c4894479
SEQUENCE:0
DTSTAMP:20260421T184809Z
DTSTART:20261029T180000Z
DTEND:20261029T210000Z
SUMMARY:CONNY & Liser - Ælpha Male Club Tour 2026 - Leipzig - Conne Islan
 d
LOCATION:Conne Island\, Koburger Straße 3\, 04277 Leipzig\, Deutschland
DESCRIPTION:Einlass: 19:00 Uhr\, Beginn: 20:00
END:VEVENT
END:VCALENDAR