BEGIN:VCALENDAR
VERSION:2.0
PRODID:-//sebbo.net//ical-generator//EN
BEGIN:VEVENT
UID:b06d7aef-d5d7-47bb-b9ee-3e0b8d4030d7
SEQUENCE:0
DTSTAMP:20260419T215935Z
DTSTART:20260903T220000Z
DTEND:20260904T183000Z
SUMMARY:BROILERS - OPEN AIR 2026 - Münster - Open Air am MCC Halle Münst
 erland
LOCATION:Open Air am MCC Halle Münsterland\, Albersloher Weg 32\, 48155 M
 ünster\, Deutschland
DESCRIPTION:Beginn: 18:30
END:VEVENT
END:VCALENDAR