BEGIN:VCALENDAR
VERSION:2.0
PRODID:-//sebbo.net//ical-generator//EN
BEGIN:VEVENT
UID:192b5310-b54a-4eb4-978a-5873cdf5768f
SEQUENCE:0
DTSTAMP:20260419T220350Z
DTSTART:20261023T160000Z
DTEND:20261023T190000Z
SUMMARY:Behemoth & Dimmu Borgir - In League With Satan Tour 2026 - Berlin 
 - Columbiahalle
LOCATION:Columbiahalle\, Columbiadamm 13-21\, 10965 Berlin\, Deutschland
DESCRIPTION:Einlass: 18:00 Uhr\, Beginn: 19:00
END:VEVENT
END:VCALENDAR