BEGIN:VCALENDAR
VERSION:2.0
PRODID:-//sebbo.net//ical-generator//EN
BEGIN:VEVENT
UID:8a76bec0-6c98-4143-bccd-46c064f4354e
SEQUENCE:0
DTSTAMP:20260419T220359Z
DTSTART:20260610T170000Z
DTEND:20260610T200000Z
SUMMARY:Audio88 & Yassin - ZEIT ZU STERBEN TOUR - Dresden - Parkhotel Dres
 den (Ballsaal)
LOCATION:Parkhotel Dresden (Ballsaal)\, Bautzner Landstraße 7\, 01324 Dre
 sden\, Deutschland
DESCRIPTION:Einlass: 19:00 Uhr\, Beginn: 20:00
END:VEVENT
END:VCALENDAR