BEGIN:VCALENDAR
VERSION:2.0
PRODID:-//sebbo.net//ical-generator//EN
BEGIN:VEVENT
UID:05ad4848-d2d9-438f-ba0c-eb3120fd7464
SEQUENCE:0
DTSTAMP:20260421T120006Z
DTSTART:20260628T170000Z
DTEND:20260628T200000Z
SUMMARY:Audio88 & Yassin - ZEIT ZU STERBEN TOUR - Leipzig - Täubchenthal
LOCATION:Täubchenthal\, Wachsmuthstr. 1\, 04229 Leipzig\, Deutschland
DESCRIPTION:Einlass: 19:00 Uhr\, Beginn: 20:00
END:VEVENT
END:VCALENDAR