BEGIN:VCALENDAR
VERSION:2.0
PRODID:-//sebbo.net//ical-generator//EN
BEGIN:VEVENT
UID:2cd715d9-985b-4781-933b-6dfb12fb1781
SEQUENCE:0
DTSTAMP:20260419T220306Z
DTSTART:20260617T170000Z
DTEND:20260617T200000Z
SUMMARY:Audio88 & Yassin - ZEIT ZU STERBEN TOUR - Münster - Skaters Palac
 e
LOCATION:Skaters Palace\, Dahlweg 126\, 48153 Münster\, Deutschland
DESCRIPTION:Einlass: 19:00 Uhr\, Beginn: 20:00
END:VEVENT
END:VCALENDAR