BEGIN:VCALENDAR
VERSION:2.0
PRODID:-//sebbo.net//ical-generator//EN
BEGIN:VEVENT
UID:00b41bbf-280e-4da7-8002-ada4ecf3b297
SEQUENCE:0
DTSTAMP:20260419T220257Z
DTSTART:20260625T160000Z
DTEND:20260625T190000Z
SUMMARY:Audio88 & Yassin - ZEIT ZU STERBEN TOUR - Bremen - Modernes
LOCATION:Modernes\, Neustadtswall 28\, 28199 Bremen\, Deutschland
DESCRIPTION:Einlass: 18:00 Uhr\, Beginn: 19:00
END:VEVENT
END:VCALENDAR