BEGIN:VCALENDAR
VERSION:2.0
PRODID:-//sebbo.net//ical-generator//EN
BEGIN:VEVENT
UID:944b41fa-253b-4d39-9ca7-e1511c13a101
SEQUENCE:0
DTSTAMP:20260419T220358Z
DTSTART:20260614T170000Z
DTEND:20260614T200000Z
SUMMARY:Audio88 & Yassin - ZEIT ZU STERBEN TOUR - Stuttgart - Im Wizemann 
 (Halle)
LOCATION:Im Wizemann (Halle)\, Quellenstraße 7\, 70376 Stuttgart\, Deutsc
 hland
DESCRIPTION:Einlass: 19:00 Uhr\, Beginn: 20:00
END:VEVENT
END:VCALENDAR