BEGIN:VCALENDAR
VERSION:2.0
PRODID:-//sebbo.net//ical-generator//EN
BEGIN:VEVENT
UID:96d8988a-f31a-4d46-9efd-02e6b8b8ae3f
SEQUENCE:0
DTSTAMP:20260419T220358Z
DTSTART:20260627T170000Z
DTEND:20260627T200000Z
SUMMARY:Audio88 & Yassin - ZEIT ZU STERBEN TOUR - Berlin - Huxleys Neue We
 lt
LOCATION:Huxleys Neue Welt\, Hasenheide 107-113\, 10967  Berlin\, Deutschl
 and
DESCRIPTION:Einlass: 19:00 Uhr\, Beginn: 20:00
END:VEVENT
END:VCALENDAR