BEGIN:VCALENDAR
VERSION:2.0
PRODID:-//sebbo.net//ical-generator//EN
BEGIN:VEVENT
UID:db7be542-e059-4fca-9503-efee5b67f780
SEQUENCE:0
DTSTAMP:20260419T220158Z
DTSTART:20260613T170000Z
DTEND:20260613T200000Z
SUMMARY:Audio88 & Yassin - ZEIT ZU STERBEN TOUR - Freiburg - Jazzhaus
LOCATION:Jazzhaus\, Schnewlinstraße 1\, 79098 Freiburg\, Deutschland
DESCRIPTION:Einlass: 19:00 Uhr\, Beginn: 20:00
END:VEVENT
END:VCALENDAR