BEGIN:VCALENDAR
VERSION:2.0
PRODID:-//sebbo.net//ical-generator//EN
BEGIN:VEVENT
UID:20a9f2e4-964c-4c9c-bc25-46f4d3c9efb8
SEQUENCE:0
DTSTAMP:20260419T220351Z
DTSTART:20260624T160000Z
DTEND:20260624T200000Z
SUMMARY:Audio88 & Yassin - ZEIT ZU STERBEN TOUR - München - Backstage Wer
 k	
LOCATION:Backstage Werk	\, Reitknechtstr. 6	\, 80639 München\, Deutschlan
 d
DESCRIPTION:Einlass: 18:00 Uhr\, Beginn: 20:00
END:VEVENT
END:VCALENDAR