BEGIN:VCALENDAR
VERSION:2.0
PRODID:-//sebbo.net//ical-generator//EN
BEGIN:VEVENT
UID:b3e3872c-2a42-4314-b94b-e46bae622af2
SEQUENCE:0
DTSTAMP:20260419T220305Z
DTSTART:20260717T153000Z
DTEND:20260717T200000Z
SUMMARY:AnnenMayKantereit - Live 2026 - Neu-Ulm - Sport- und Freizeitpark 
 Wiley Neu-Ulm
LOCATION:Sport- und Freizeitpark Wiley Neu-Ulm\, Wileystraße\, 89231 Neu-
 Ulm\, Deutschland
DESCRIPTION:Einlass: 17:30 Uhr\, Beginn: 20:00
END:VEVENT
END:VCALENDAR