BEGIN:VCALENDAR
VERSION:2.0
PRODID:-//sebbo.net//ical-generator//EN
BEGIN:VEVENT
UID:8d8d688c-88fb-4639-b4bb-bccd29e70add
SEQUENCE:0
DTSTAMP:20260419T220352Z
DTSTART:20260925T160000Z
DTEND:20260925T200000Z
SUMMARY:AnnenMayKantereit - Live 2026 - Freiburg im Breisgau - Messe Freib
 urg\, SICK-Arena (Halle 2)
LOCATION:Messe Freiburg\, SICK-Arena (Halle 2)\, Neuer Messplatz 1\, 79108
  Freiburg im Breisgau\, Deutschland
DESCRIPTION:Einlass: 18:00 Uhr\, Beginn: 20:00
END:VEVENT
END:VCALENDAR