BEGIN:VCALENDAR
VERSION:2.0
PRODID:-//sebbo.net//ical-generator//EN
BEGIN:VEVENT
UID:8872b04e-0fad-4e05-a727-803141ce54c2
SEQUENCE:0
DTSTAMP:20260419T215934Z
DTSTART:20260822T150000Z
DTEND:20260822T190000Z
SUMMARY:AnnenMayKantereit - Live 2026 - Rostock - IGA Park
LOCATION:IGA Park\, An der Hanse Messe\, 18106 Rostock\, Deutschland
DESCRIPTION:Einlass: 17:00 Uhr\, Beginn: 19:00
END:VEVENT
END:VCALENDAR